Package: microRNA Version: 1.64.0 Command: /home/biocbuild/R/R/bin/R CMD INSTALL microRNA StartedAt: 2025-01-30 20:19:16 -0000 (Thu, 30 Jan 2025) EndedAt: 2025-01-30 20:19:29 -0000 (Thu, 30 Jan 2025) EllapsedTime: 13.1 seconds RetCode: 0 Status: OK