Package: microRNA Version: 1.64.0 Command: rm -rf microRNA.buildbin-libdir && mkdir microRNA.buildbin-libdir && /Users/biocbuild/BBS/utils/build-universal.sh microRNA_1.64.0.tar.gz /Library/Frameworks/R.framework/Resources/bin/R microRNA.buildbin-libdir StartedAt: 2025-02-01 15:43:47 -0500 (Sat, 01 Feb 2025) EndedAt: 2025-02-01 15:44:03 -0500 (Sat, 01 Feb 2025) EllapsedTime: 16.0 seconds RetCode: 0 Status: OK PackageFile: microRNA_1.64.0.tgz PackageFileSize: 5.777 MiB