Package: miRspongeR Version: 2.10.0 Command: F:\biocbuild\bbs-3.20-bioc\R\bin\R.exe CMD check --no-multiarch --install=check:miRspongeR.install-out.txt --library=F:\biocbuild\bbs-3.20-bioc\R\library --no-vignettes --timings miRspongeR_2.10.0.tar.gz StartedAt: 2025-01-31 04:00:05 -0500 (Fri, 31 Jan 2025) EndedAt: 2025-01-31 04:06:20 -0500 (Fri, 31 Jan 2025) EllapsedTime: 375.1 seconds RetCode: 0 Status: OK CheckDir: miRspongeR.Rcheck Warnings: 0