Package: miRSM Version: 2.2.0 Command: /home/biocbuild/R/R/bin/R CMD INSTALL miRSM StartedAt: 2025-01-30 20:58:40 -0000 (Thu, 30 Jan 2025) EndedAt: 2025-01-30 20:58:40 -0000 (Thu, 30 Jan 2025) EllapsedTime: 0.4 seconds RetCode: 1 Status: ERROR