Package: miRSM Version: 2.2.0 Command: /Library/Frameworks/R.framework/Resources/bin/R CMD INSTALL miRSM StartedAt: 2025-01-30 16:30:23 -0500 (Thu, 30 Jan 2025) EndedAt: 2025-01-30 16:32:06 -0500 (Thu, 30 Jan 2025) EllapsedTime: 103.1 seconds RetCode: 0 Status: OK