Package: miRSM Version: 2.2.0 Command: /Library/Frameworks/R.framework/Resources/bin/R CMD check --install=check:miRSM.install-out.txt --library=/Library/Frameworks/R.framework/Resources/library --no-vignettes --timings miRSM_2.2.0.tar.gz StartedAt: 2025-02-01 01:28:49 -0500 (Sat, 01 Feb 2025) EndedAt: 2025-02-01 01:36:14 -0500 (Sat, 01 Feb 2025) EllapsedTime: 445.8 seconds RetCode: 0 Status: OK CheckDir: miRSM.Rcheck Warnings: 0