Package: miRSM Version: 2.2.0 Command: rm -rf miRSM.buildbin-libdir && mkdir miRSM.buildbin-libdir && /Users/biocbuild/BBS/utils/build-universal.sh miRSM_2.2.0.tar.gz /Library/Frameworks/R.framework/Resources/bin/R miRSM.buildbin-libdir StartedAt: 2025-02-01 15:46:04 -0500 (Sat, 01 Feb 2025) EndedAt: 2025-02-01 15:47:11 -0500 (Sat, 01 Feb 2025) EllapsedTime: 67.1 seconds RetCode: 0 Status: OK PackageFile: miRSM_2.2.0.tgz PackageFileSize: 1.032 MiB