Package: miRNAmeConverter Version: 1.34.0 Command: /Library/Frameworks/R.framework/Resources/bin/R CMD check --install=check:miRNAmeConverter.install-out.txt --library=/Library/Frameworks/R.framework/Resources/library --no-vignettes --timings miRNAmeConverter_1.34.0.tar.gz StartedAt: 2025-02-01 01:27:51 -0500 (Sat, 01 Feb 2025) EndedAt: 2025-02-01 01:29:45 -0500 (Sat, 01 Feb 2025) EllapsedTime: 113.4 seconds RetCode: 0 Status: WARNINGS CheckDir: miRNAmeConverter.Rcheck Warnings: 1