Package: miRLAB Version: 1.36.0 Command: F:\biocbuild\bbs-3.20-bioc\R\bin\R.exe CMD INSTALL miRLAB StartedAt: 2025-01-30 16:29:35 -0500 (Thu, 30 Jan 2025) EndedAt: 2025-01-30 16:30:29 -0500 (Thu, 30 Jan 2025) EllapsedTime: 54.3 seconds RetCode: 0 Status: OK