Package: miRBaseConverter Version: 1.30.0 Command: /home/biocbuild/R/R/bin/R CMD INSTALL miRBaseConverter StartedAt: 2025-01-30 20:05:49 -0000 (Thu, 30 Jan 2025) EndedAt: 2025-01-30 20:06:16 -0000 (Thu, 30 Jan 2025) EllapsedTime: 26.4 seconds RetCode: 0 Status: OK