Package: miRBaseConverter Version: 1.30.0 Command: F:\biocbuild\bbs-3.20-bioc\R\bin\R.exe CMD INSTALL miRBaseConverter StartedAt: 2025-01-30 15:18:57 -0500 (Thu, 30 Jan 2025) EndedAt: 2025-01-30 15:19:27 -0500 (Thu, 30 Jan 2025) EllapsedTime: 29.7 seconds RetCode: 0 Status: OK