Package: miQC Version: 1.14.0 Command: /home/biocbuild/R/R/bin/R CMD build --keep-empty-dirs --no-resave-data miQC StartedAt: 2025-01-31 00:56:27 -0000 (Fri, 31 Jan 2025) EndedAt: 2025-01-31 00:58:04 -0000 (Fri, 31 Jan 2025) EllapsedTime: 97.0 seconds RetCode: 0 Status: OK PackageFile: miQC_1.14.0.tar.gz PackageFileSize: 1.328 MiB