Package: mfa Version: 1.28.0 Command: chmod a+r mfa -R && F:\biocbuild\bbs-3.20-bioc\R\bin\R.exe CMD build --keep-empty-dirs --no-resave-data mfa StartedAt: 2025-01-30 20:05:29 -0500 (Thu, 30 Jan 2025) EndedAt: 2025-01-30 20:06:14 -0500 (Thu, 30 Jan 2025) EllapsedTime: 45.7 seconds RetCode: 0 Status: OK PackageFile: mfa_1.28.0.tar.gz PackageFileSize: 340.3 KiB