Package: mfa Version: 1.28.0 Command: /home/biocbuild/bbs-3.20-bioc/R/bin/R CMD build --keep-empty-dirs --no-resave-data --md5 mfa StartedAt: 2025-01-30 18:02:21 -0500 (Thu, 30 Jan 2025) EndedAt: 2025-01-30 18:02:51 -0500 (Thu, 30 Jan 2025) EllapsedTime: 30.0 seconds RetCode: 0 Status: OK PackageFile: mfa_1.28.0.tar.gz PackageFileSize: 693.7 KiB