Package: mfa Version: 1.28.0 Command: rm -rf mfa.buildbin-libdir && mkdir mfa.buildbin-libdir && /Users/biocbuild/BBS/utils/build-universal.sh mfa_1.28.0.tar.gz /Library/Frameworks/R.framework/Resources/bin/R mfa.buildbin-libdir StartedAt: 2025-02-01 15:42:23 -0500 (Sat, 01 Feb 2025) EndedAt: 2025-02-01 15:42:43 -0500 (Sat, 01 Feb 2025) EllapsedTime: 20.3 seconds RetCode: 0 Status: OK PackageFile: mfa_1.28.0.tgz PackageFileSize: 657.1 KiB