Package: methylclock Version: 1.12.0 Command: /home/biocbuild/R/R/bin/R CMD check --install=check:methylclock.install-out.txt --library=/home/biocbuild/R/R/site-library --no-vignettes --timings methylclock_1.12.0.tar.gz StartedAt: 2025-01-31 07:56:43 -0000 (Fri, 31 Jan 2025) EndedAt: 2025-01-31 08:11:02 -0000 (Fri, 31 Jan 2025) EllapsedTime: 859.1 seconds RetCode: 0 Status: OK CheckDir: methylclock.Rcheck Warnings: 0