Package: methylclock Version: 1.12.0 Command: /home/biocbuild/R/R/bin/R CMD build --keep-empty-dirs --no-resave-data methylclock StartedAt: 2025-01-31 00:48:28 -0000 (Fri, 31 Jan 2025) EndedAt: 2025-01-31 01:05:15 -0000 (Fri, 31 Jan 2025) EllapsedTime: 1007.4 seconds RetCode: 0 Status: OK PackageFile: methylclock_1.12.0.tar.gz PackageFileSize: 774.5 KiB