Package: methylclock Version: 1.12.0 Command: /home/biocbuild/bbs-3.20-bioc/R/bin/R CMD build --keep-empty-dirs --no-resave-data --md5 methylclock StartedAt: 2025-01-30 17:59:53 -0500 (Thu, 30 Jan 2025) EndedAt: 2025-01-30 18:09:27 -0500 (Thu, 30 Jan 2025) EllapsedTime: 573.6 seconds RetCode: 0 Status: OK PackageFile: methylclock_1.12.0.tar.gz PackageFileSize: 1.12 MiB