Package: methylSig Version: 1.18.0 Command: /home/biocbuild/R/R/bin/R CMD INSTALL methylSig StartedAt: 2025-01-30 20:29:50 -0000 (Thu, 30 Jan 2025) EndedAt: 2025-01-30 20:30:48 -0000 (Thu, 30 Jan 2025) EllapsedTime: 58.3 seconds RetCode: 0 Status: OK