Package: methylKit Version: 1.32.0 Command: /Library/Frameworks/R.framework/Resources/bin/R CMD build --keep-empty-dirs --no-resave-data methylKit StartedAt: 2025-01-30 20:33:45 -0500 (Thu, 30 Jan 2025) EndedAt: 2025-01-30 20:37:52 -0500 (Thu, 30 Jan 2025) EllapsedTime: 247.0 seconds RetCode: 0 Status: OK PackageFile: methylKit_1.32.0.tar.gz PackageFileSize: 1.443 MiB