Package: methyLImp2 Version: 1.2.0 Command: /home/biocbuild/R/R/bin/R CMD check --install=check:methyLImp2.install-out.txt --library=/home/biocbuild/R/R/site-library --no-vignettes --timings methyLImp2_1.2.0.tar.gz StartedAt: 2025-01-31 07:57:41 -0000 (Fri, 31 Jan 2025) EndedAt: 2025-01-31 08:01:10 -0000 (Fri, 31 Jan 2025) EllapsedTime: 209.3 seconds RetCode: 0 Status: OK CheckDir: methyLImp2.Rcheck Warnings: 0