Package: methodical Version: 1.2.0 Command: /home/biocbuild/bbs-3.20-bioc/R/bin/R CMD INSTALL methodical StartedAt: 2025-01-30 15:58:39 -0500 (Thu, 30 Jan 2025) EndedAt: 2025-01-30 15:59:18 -0500 (Thu, 30 Jan 2025) EllapsedTime: 39.0 seconds RetCode: 0 Status: OK