Package: methodical Version: 1.2.0 Command: /home/biocbuild/bbs-3.20-bioc/R/bin/R CMD check --install=check:methodical.install-out.txt --library=/home/biocbuild/bbs-3.20-bioc/R/site-library --timings methodical_1.2.0.tar.gz StartedAt: 2025-01-30 23:47:02 -0500 (Thu, 30 Jan 2025) EndedAt: 2025-01-31 00:11:02 -0500 (Fri, 31 Jan 2025) EllapsedTime: 1439.3 seconds RetCode: 0 Status: WARNINGS CheckDir: methodical.Rcheck Warnings: 1