Package: methInheritSim Version: 1.28.0 Command: /home/biocbuild/R/R/bin/R CMD check --install=check:methInheritSim.install-out.txt --library=/home/biocbuild/R/R/site-library --no-vignettes --timings methInheritSim_1.28.0.tar.gz StartedAt: 2025-01-31 07:55:14 -0000 (Fri, 31 Jan 2025) EndedAt: 2025-01-31 08:01:15 -0000 (Fri, 31 Jan 2025) EllapsedTime: 361.5 seconds RetCode: 0 Status: OK CheckDir: methInheritSim.Rcheck Warnings: 0