Package: methInheritSim Version: 1.28.0 Command: /home/biocbuild/bbs-3.20-bioc/R/bin/R CMD INSTALL methInheritSim StartedAt: 2025-01-30 15:45:50 -0500 (Thu, 30 Jan 2025) EndedAt: 2025-01-30 15:46:29 -0500 (Thu, 30 Jan 2025) EllapsedTime: 39.2 seconds RetCode: 0 Status: OK