Package: metapone Version: 1.12.0 Command: rm -rf metapone.buildbin-libdir && mkdir metapone.buildbin-libdir && /Users/biocbuild/BBS/utils/build-universal.sh metapone_1.12.0.tar.gz /Library/Frameworks/R.framework/Resources/bin/R metapone.buildbin-libdir StartedAt: 2025-02-01 15:38:54 -0500 (Sat, 01 Feb 2025) EndedAt: 2025-02-01 15:39:07 -0500 (Sat, 01 Feb 2025) EllapsedTime: 12.4 seconds RetCode: 0 Status: OK PackageFile: metapone_1.12.0.tgz PackageFileSize: 3.791 MiB