Package: metapod Version: 1.14.0 Command: /home/biocbuild/R/R/bin/R CMD check --install=check:metapod.install-out.txt --library=/home/biocbuild/R/R/site-library --no-vignettes --timings metapod_1.14.0.tar.gz StartedAt: 2025-01-31 07:54:36 -0000 (Fri, 31 Jan 2025) EndedAt: 2025-01-31 07:55:08 -0000 (Fri, 31 Jan 2025) EllapsedTime: 31.0 seconds RetCode: 0 Status: OK CheckDir: metapod.Rcheck Warnings: 0