Package: metapod Version: 1.14.0 Command: /Library/Frameworks/R.framework/Resources/bin/R CMD build --keep-empty-dirs --no-resave-data metapod StartedAt: 2025-01-31 02:49:57 -0500 (Fri, 31 Jan 2025) EndedAt: 2025-01-31 02:50:23 -0500 (Fri, 31 Jan 2025) EllapsedTime: 26.4 seconds RetCode: 0 Status: OK PackageFile: metapod_1.14.0.tar.gz PackageFileSize: 323.5 KiB