Package: metapod Version: 1.14.0 Command: rm -rf metapod.buildbin-libdir && mkdir metapod.buildbin-libdir && /Users/biocbuild/BBS/utils/build-universal.sh metapod_1.14.0.tar.gz /Library/Frameworks/R.framework/Resources/bin/R metapod.buildbin-libdir StartedAt: 2025-02-01 15:38:49 -0500 (Sat, 01 Feb 2025) EndedAt: 2025-02-01 15:39:13 -0500 (Sat, 01 Feb 2025) EllapsedTime: 24.5 seconds RetCode: 0 Status: OK PackageFile: metapod_1.14.0.tgz PackageFileSize: 487.9 KiB