Package: metahdep Version: 1.64.0 Command: /home/biocbuild/R/R/bin/R CMD INSTALL metahdep StartedAt: 2025-01-30 20:05:49 -0000 (Thu, 30 Jan 2025) EndedAt: 2025-01-30 20:05:57 -0000 (Thu, 30 Jan 2025) EllapsedTime: 7.8 seconds RetCode: 1 Status: ERROR