Package: metahdep Version: 1.64.0 Command: /Library/Frameworks/R.framework/Resources/bin/R CMD check --install=check:metahdep.install-out.txt --library=/Library/Frameworks/R.framework/Resources/library --no-vignettes --timings metahdep_1.64.0.tar.gz StartedAt: 2025-02-01 00:27:45 -0500 (Sat, 01 Feb 2025) EndedAt: 2025-02-01 00:28:16 -0500 (Sat, 01 Feb 2025) EllapsedTime: 30.5 seconds RetCode: 0 Status: WARNINGS CheckDir: metahdep.Rcheck Warnings: 1