Package: messina Version: 1.42.0 Command: /home/biocbuild/bbs-3.20-bioc/R/bin/R CMD INSTALL messina StartedAt: 2025-01-30 15:41:54 -0500 (Thu, 30 Jan 2025) EndedAt: 2025-01-30 15:42:19 -0500 (Thu, 30 Jan 2025) EllapsedTime: 24.5 seconds RetCode: 0 Status: OK