Package: memes Version: 1.14.0 Command: /home/biocbuild/bbs-3.20-bioc/R/bin/R CMD build --keep-empty-dirs --no-resave-data --md5 memes StartedAt: 2025-01-30 17:56:52 -0500 (Thu, 30 Jan 2025) EndedAt: 2025-01-30 17:57:43 -0500 (Thu, 30 Jan 2025) EllapsedTime: 51.1 seconds RetCode: 0 Status: OK PackageFile: memes_1.14.0.tar.gz PackageFileSize: 1.047 MiB