Package: matter Version: 2.8.0 Command: /home/biocbuild/R/R/bin/R CMD build --keep-empty-dirs --no-resave-data matter StartedAt: 2025-01-31 00:40:09 -0000 (Fri, 31 Jan 2025) EndedAt: 2025-01-31 00:42:00 -0000 (Fri, 31 Jan 2025) EllapsedTime: 111.0 seconds RetCode: 0 Status: OK PackageFile: matter_2.8.0.tar.gz PackageFileSize: 1.915 MiB