Package: massiR Version: 1.41.0 Command: chmod a+r massiR -R && C:\Users\biocbuild\bbs-3.20-bioc\R\bin\R.exe CMD build --keep-empty-dirs --no-resave-data massiR StartedAt: 2024-07-15 18:54:53 -0400 (Mon, 15 Jul 2024) EndedAt: 2024-07-15 18:55:05 -0400 (Mon, 15 Jul 2024) EllapsedTime: 11.7 seconds RetCode: 0 Status: OK PackageFile: massiR_1.41.0.tar.gz PackageFileSize: 1.027 MiB