Package: maskBAD Version: 1.50.0 Command: /home/biocbuild/R/R/bin/R CMD INSTALL maskBAD StartedAt: 2025-01-30 20:15:58 -0000 (Thu, 30 Jan 2025) EndedAt: 2025-01-30 20:16:12 -0000 (Thu, 30 Jan 2025) EllapsedTime: 13.6 seconds RetCode: 0 Status: OK