Package: marr Version: 1.16.0 Command: /home/biocbuild/R/R/bin/R CMD INSTALL marr StartedAt: 2025-01-30 20:15:35 -0000 (Thu, 30 Jan 2025) EndedAt: 2025-01-30 20:16:15 -0000 (Thu, 30 Jan 2025) EllapsedTime: 40.5 seconds RetCode: 0 Status: OK