Package: marr Version: 1.16.0 Command: /Library/Frameworks/R.framework/Resources/bin/R CMD check --install=check:marr.install-out.txt --library=/Library/Frameworks/R.framework/Resources/library --no-vignettes --timings marr_1.16.0.tar.gz StartedAt: 2025-01-31 05:56:40 -0500 (Fri, 31 Jan 2025) EndedAt: 2025-01-31 06:03:47 -0500 (Fri, 31 Jan 2025) EllapsedTime: 427.5 seconds RetCode: 0 Status: OK CheckDir: marr.Rcheck Warnings: 0