Package: makecdfenv Version: 1.82.0 Command: F:\biocbuild\bbs-3.20-bioc\R\bin\R.exe CMD check --no-multiarch --install=check:makecdfenv.install-out.txt --library=F:\biocbuild\bbs-3.20-bioc\R\library --no-vignettes --timings makecdfenv_1.82.0.tar.gz StartedAt: 2025-01-31 03:30:07 -0500 (Fri, 31 Jan 2025) EndedAt: 2025-01-31 03:31:02 -0500 (Fri, 31 Jan 2025) EllapsedTime: 55.1 seconds RetCode: 0 Status: OK CheckDir: makecdfenv.Rcheck Warnings: 0