Package: makecdfenv Version: 1.82.0 Command: rm -rf makecdfenv.buildbin-libdir && mkdir makecdfenv.buildbin-libdir && F:\biocbuild\bbs-3.20-bioc\R\bin\R.exe CMD INSTALL --build --library=makecdfenv.buildbin-libdir makecdfenv_1.82.0.tar.gz StartedAt: 2025-01-31 08:58:21 -0500 (Fri, 31 Jan 2025) EndedAt: 2025-01-31 08:58:53 -0500 (Fri, 31 Jan 2025) EllapsedTime: 32.4 seconds RetCode: 0 Status: OK PackageFile: makecdfenv_1.82.0.zip PackageFileSize: 3.298 MiB