Package: maftools Version: 2.22.0 Command: chmod a+r maftools -R && F:\biocbuild\bbs-3.20-bioc\R\bin\R.exe CMD build --keep-empty-dirs --no-resave-data maftools StartedAt: 2025-01-30 19:51:53 -0500 (Thu, 30 Jan 2025) EndedAt: 2025-01-30 19:56:03 -0500 (Thu, 30 Jan 2025) EllapsedTime: 250.0 seconds RetCode: 0 Status: OK PackageFile: maftools_2.22.0.tar.gz PackageFileSize: 9.015 MiB