Package: maSigPro Version: 1.78.0 Command: /home/biocbuild/bbs-3.20-bioc/R/bin/R CMD check --install=check:maSigPro.install-out.txt --library=/home/biocbuild/bbs-3.20-bioc/R/site-library --timings maSigPro_1.78.0.tar.gz StartedAt: 2025-01-30 23:35:44 -0500 (Thu, 30 Jan 2025) EndedAt: 2025-01-30 23:37:52 -0500 (Thu, 30 Jan 2025) EllapsedTime: 128.1 seconds RetCode: 0 Status: OK CheckDir: maSigPro.Rcheck Warnings: 0