Package: mCSEA Version: 1.26.2 Command: /Library/Frameworks/R.framework/Resources/bin/R CMD INSTALL mCSEA StartedAt: 2025-01-30 16:12:56 -0500 (Thu, 30 Jan 2025) EndedAt: 2025-01-30 16:14:20 -0500 (Thu, 30 Jan 2025) EllapsedTime: 83.8 seconds RetCode: 0 Status: OK