Package: lpNet Version: 2.38.0 Command: F:\biocbuild\bbs-3.20-bioc\R\bin\R.exe CMD check --no-multiarch --install=check:lpNet.install-out.txt --library=F:\biocbuild\bbs-3.20-bioc\R\library --no-vignettes --timings lpNet_2.38.0.tar.gz StartedAt: 2025-01-31 03:25:58 -0500 (Fri, 31 Jan 2025) EndedAt: 2025-01-31 03:26:54 -0500 (Fri, 31 Jan 2025) EllapsedTime: 55.9 seconds RetCode: 0 Status: WARNINGS CheckDir: lpNet.Rcheck Warnings: 1