Package: lpNet Version: 2.38.0 Command: chmod a+r lpNet -R && F:\biocbuild\bbs-3.20-bioc\R\bin\R.exe CMD build --keep-empty-dirs --no-resave-data lpNet StartedAt: 2025-01-30 19:50:05 -0500 (Thu, 30 Jan 2025) EndedAt: 2025-01-30 19:50:56 -0500 (Thu, 30 Jan 2025) EllapsedTime: 50.7 seconds RetCode: 0 Status: OK PackageFile: lpNet_2.38.0.tar.gz PackageFileSize: 218.7 KiB