Package: lpNet Version: 2.38.0 Command: rm -rf lpNet.buildbin-libdir && mkdir lpNet.buildbin-libdir && F:\biocbuild\bbs-3.20-bioc\R\bin\R.exe CMD INSTALL --build --library=lpNet.buildbin-libdir lpNet_2.38.0.tar.gz StartedAt: 2025-01-31 08:57:10 -0500 (Fri, 31 Jan 2025) EndedAt: 2025-01-31 08:57:34 -0500 (Fri, 31 Jan 2025) EllapsedTime: 23.8 seconds RetCode: 0 Status: OK PackageFile: lpNet_2.38.0.zip PackageFileSize: 319.3 KiB