Package: loci2path Version: 1.26.0 Command: /Library/Frameworks/R.framework/Resources/bin/R CMD build --keep-empty-dirs --no-resave-data loci2path StartedAt: 2025-01-30 20:14:42 -0500 (Thu, 30 Jan 2025) EndedAt: 2025-01-30 20:15:39 -0500 (Thu, 30 Jan 2025) EllapsedTime: 57.2 seconds RetCode: 0 Status: OK PackageFile: loci2path_1.26.0.tar.gz PackageFileSize: 610.8 KiB