Package: lineagespot Version: 1.10.0 Command: /Library/Frameworks/R.framework/Resources/bin/R CMD INSTALL lineagespot StartedAt: 2025-01-30 16:07:51 -0500 (Thu, 30 Jan 2025) EndedAt: 2025-01-30 16:08:38 -0500 (Thu, 30 Jan 2025) EllapsedTime: 46.8 seconds RetCode: 0 Status: OK