Package: limma Version: 3.62.2 Command: F:\biocbuild\bbs-3.20-bioc\R\bin\R.exe CMD INSTALL limma StartedAt: 2025-01-30 15:24:56 -0500 (Thu, 30 Jan 2025) EndedAt: 2025-01-30 15:26:40 -0500 (Thu, 30 Jan 2025) EllapsedTime: 103.3 seconds RetCode: 0 Status: OK