Package: limma Version: 3.62.2 Command: F:\biocbuild\bbs-3.20-bioc\R\bin\R.exe CMD check --no-multiarch --install=check:limma.install-out.txt --library=F:\biocbuild\bbs-3.20-bioc\R\library --no-vignettes --timings limma_3.62.2.tar.gz StartedAt: 2025-01-31 03:22:44 -0500 (Fri, 31 Jan 2025) EndedAt: 2025-01-31 03:24:50 -0500 (Fri, 31 Jan 2025) EllapsedTime: 126.0 seconds RetCode: 0 Status: OK CheckDir: limma.Rcheck Warnings: 0